BEGIN:VCALENDAR
VERSION:2.0
PRODID:-//Tukios.com/
BEGIN:VEVENT
UID:5217e2a7-e1a3-400c-a016-678bf3be7065@www.okcremation.com
DTSTAMP:20260421T231136Z
DTSTART:20260501T190000Z
DTEND:20260501T200000Z
SUMMARY:Graveside Committal
DESCRIPTION:
URL:https://www.okcremation.com/obituaries/corey-hudson
LOCATION:Shawnee Fairview Cemetery 1400 N Center Ave  Shawnee OK 74801
GEO:35.3431738;-96.9095099
END:VEVENT
END:VCALENDAR