BEGIN:VCALENDAR
VERSION:2.0
PRODID:-//Tukios.com/
BEGIN:VEVENT
UID:5b7acc61-b1ae-47a4-9fd9-90ba9c46c8e2@www.okcremation.com
DTSTAMP:20260421T231616Z
DTSTART:20260501
SUMMARY:Family Meal
DESCRIPTION:Immediately after the Memorial Service concludes.
URL:https://www.okcremation.com/obituaries/corey-hudson
LOCATION:City Hall of Tecumseh 114 N Broadway St  Tecumseh OK 74873
GEO:35.2580164;-96.9370649
END:VEVENT
END:VCALENDAR