BEGIN:VCALENDAR
VERSION:2.0
PRODID:-//Tukios.com/
BEGIN:VEVENT
UID:1f495652-927b-4c06-a16e-b5ff1596f130@www.okcremation.com
DTSTAMP:20260421T064520Z
DTSTART:20260424T150000Z
DTEND:20260424T180000Z
SUMMARY:Viewing
DESCRIPTION:
URL:https://www.okcremation.com/obituaries/sandra-may-mize
LOCATION:Earlsboro High School Auditorium 400 E. Main  Earlsboro OK 74840
GEO:35.2681975;-96.799492
END:VEVENT
END:VCALENDAR