BEGIN:VCALENDAR
VERSION:2.0
PRODID:-//Tukios.com/
BEGIN:VEVENT
UID:1eddec36-018c-4efa-91aa-f17d7bee6b06@www.okcremation.com
DTSTAMP:20260421T064521Z
DTSTART:20260424T190000Z
DTEND:20260424T200000Z
SUMMARY:Funeral Service
DESCRIPTION:
URL:https://www.okcremation.com/obituaries/sandra-may-mize
LOCATION:Earlsboro High School Auditorium 400 E. Main  Earlsboro OK 74840
GEO:35.2681975;-96.799492
END:VEVENT
END:VCALENDAR